BEGIN:VCALENDAR
VERSION:2.0
PRODID:-//eventon.com NONSGML v1.0//EN
BEGIN:VEVENT
UID:69eac1785ceec
DTSTAMP:20260424T020352
DTSTART:20240628T230000Z
DTEND:20240630T225900Z
TZID:Europe/London
LOCATION:CYC 
SUMMARY:Cruise in Company
DESCRIPTION: A cruise in company to Holy Island\,  Newton or The Tyne. This will be decided depending on the conditions on the day. Cruise Essentials High Water @ 09:32 / 22:32 4.67m
URL:https://coquetyachtclub.org.uk/events/cruise-in-company-2/
END:VEVENT
END:VCALENDAR