BEGIN:VCALENDAR
VERSION:2.0
PRODID:-//eventon.com NONSGML v1.0//EN
BEGIN:VEVENT
UID:69eab3cea4c12
DTSTAMP:20260424T010534
DTSTART:20230812T190000Z
DTEND:20230812T230000Z
TZID:Etc/Greenwich
LOCATION:
SUMMARY:Rock The Room
DESCRIPTION: We have our “Rock the Room” quiz night coming up on the 12th August! We will have a buffet which Helen has very kindly volunteered to do for us! Get brushing up on your songs and get your dancing&nbsp;shoes&nbsp;ready!
URL:https://coquetyachtclub.org.uk/events/rock-the-room/
END:VEVENT
END:VCALENDAR